BEGIN:VCALENDAR
VERSION:2.0
PRODID:-//ChamberMaster//Event Calendar 2.0//EN
METHOD:PUBLISH
X-PUBLISHED-TTL:P3D
REFRESH-INTERVAL:P3D
CALSCALE:GREGORIAN
BEGIN:VEVENT
DTSTART:20091001T210000Z
DTEND:20091002T000000Z
X-MICROSOFT-CDO-ALLDAYEVENT:FALSE
SUMMARY:Harlingen Medical Center Annual Health & Wellness Expo
DESCRIPTION:HMC's Annual Health & Wellness Expo will feature Free Screenings\, Health Services & Wellness Information.  There will be a Breast Cancer Awareness Lecture from 5:30- 6:30 pm.  Limited Seating - please RSVP to (956) 365-1848.  Door Prizes\, Refreshments and Hors d'oeuvres will be provided.  October Mammogram Special - $99.00 - to schedule an appointment please call 365-1839.
X-ALT-DESC;FMTTYPE=text/html:HMC's Annual Health & Wellness Expo will feature Free Screenings\, Health Services & Wellness Information.  There will be a Breast Cancer Awareness Lecture from 5:30- 6:30 pm.  Limited Seating - please RSVP to (956) 365-1848.  Door Prizes\, Refreshments and Hors d'oeuvres will be provided.  October Mammogram Special - $99.00 - to schedule an appointment please call 365-1839.\n
LOCATION:
UID:e.1828.2117
SEQUENCE:3
DTSTAMP:20260422T112609Z
URL:https://business.harlingen.com/events/details/harlingen-medical-center-annual-health-wellness-expo-10-01-2009-2117
END:VEVENT

END:VCALENDAR
