BEGIN:VCALENDAR
VERSION:2.0
PRODID:-//ChamberMaster//Event Calendar 2.0//EN
METHOD:PUBLISH
X-PUBLISHED-TTL:P3D
REFRESH-INTERVAL:P3D
CALSCALE:GREGORIAN
BEGIN:VEVENT
DTSTART:20100206T150000Z
DTEND:20100206T170000Z
X-MICROSOFT-CDO-ALLDAYEVENT:FALSE
SUMMARY:Harlingen Medical Center & City of Harlingen Centennial Celebration Wellness Expo
DESCRIPTION:Free services include: \n•         Hearing Screenings\n•         Vision Screenings\n•         Dental Screenings\n•         Blood Pressure Screenings\n•         Diabetes Education &Foot Evaluation\n•         Physical Fitness Demonstrations\n•         Nutrition Counseling\n•         H1N1 Vaccine\n•         Sleep Apnea Education\n•         Self Breast Examination Education\n•         Massage Therapy Demonstrations\n•         And\, much more ...\n \nDoor Prizes\, Refreshments & Hors d'oeuvres!  For more information\, please call  956-365-1000.
X-ALT-DESC;FMTTYPE=text/html:Free services include: \n•         Hearing Screenings\n•         Vision Screenings\n•         Dental Screenings\n•         Blood Pressure Screenings\n•         Diabetes Education &Foot Evaluation\n•         Physical Fitness Demonstrations\n•         Nutrition Counseling\n•         H1N1 Vaccine\n•         Sleep Apnea Education\n•         Self Breast Examination Education\n•         Massage Therapy Demonstrations\n•         And\, much more ...\n \nDoor Prizes\, Refreshments & Hors d'oeuvres!  For more information\, please call  956-365-1000.\n \n
LOCATION:Main Lobby
UID:e.1828.2360
SEQUENCE:3
DTSTAMP:20260422T112607Z
URL:https://business.harlingen.com/events/details/harlingen-medical-center-city-of-harlingen-centennial-celebration-wellness-expo-02-06-2010-2360
END:VEVENT

END:VCALENDAR
