BEGIN:VCALENDAR
VERSION:2.0
PRODID:-//ChamberMaster//Event Calendar 2.0//EN
METHOD:PUBLISH
X-PUBLISHED-TTL:P3D
REFRESH-INTERVAL:P3D
CALSCALE:GREGORIAN
BEGIN:VEVENT
DTSTART:20100217T000000Z
DTEND:20100217T000000Z
X-MICROSOFT-CDO-ALLDAYEVENT:FALSE
SUMMARY:Harlingen Medical Center Doc Talks Lecture
DESCRIPTION:Doc Talks Lecture: 2/16/10\; 6:00 pm: MOB Conference Rm. at Harlingen Medical Center. Dr. David Yardley\, a cardiologist based out of Harlingen will present on a topic related to cardiovascular disease. RSVP at (956) 365-1888.
X-ALT-DESC;FMTTYPE=text/html:Doc Talks Lecture: 2/16/10\; 6:00 pm: MOB Conference Rm. at Harlingen Medical Center. Dr. David Yardley\, a cardiologist based out of Harlingen will present on a topic related to cardiovascular disease. RSVP at (956) 365-1888.
LOCATION:MOB Conference Room
UID:e.1828.2392
SEQUENCE:3
DTSTAMP:20260422T094642Z
URL:https://business.harlingen.com/events/details/harlingen-medical-center-doc-talks-lecture-02-16-2010-2392
END:VEVENT

END:VCALENDAR
