BEGIN:VCALENDAR
VERSION:2.0
PRODID:-//ChamberMaster//Event Calendar 2.0//EN
METHOD:PUBLISH
X-PUBLISHED-TTL:P3D
REFRESH-INTERVAL:P3D
CALSCALE:GREGORIAN
BEGIN:VEVENT
DTSTART:20100226T000000Z
DTEND:20100226T000000Z
X-MICROSOFT-CDO-ALLDAYEVENT:FALSE
SUMMARY:Harlingen Medical Center Doc Talks Lecture
DESCRIPTION:Doc Talks Lecture: 2/25/10: 6:00 pm: MOB Conference Rm. at Harlingen Medical Center. Dr. Eduardo Flores\, a cardiologist will present his Heart Health: An Ounce of Prevention lecture that will offer tips to maintaining a healthy heart. RSVP at (956) 365-1888.
X-ALT-DESC;FMTTYPE=text/html:Doc Talks Lecture: 2/25/10: 6:00 pm: MOB Conference Rm. at Harlingen Medical Center. Dr. Eduardo Flores\, a cardiologist will present his Heart Health: An Ounce of Prevention lecture that will offer tips to maintaining a healthy heart. RSVP at (956) 365-1888. 
LOCATION:MOB Conference Room
UID:e.1828.2393
SEQUENCE:3
DTSTAMP:20260422T094708Z
URL:https://business.harlingen.com/events/details/harlingen-medical-center-doc-talks-lecture-02-25-2010-2393
END:VEVENT

END:VCALENDAR
