BEGIN:VCALENDAR
VERSION:2.0
PRODID:-//ChamberMaster//Event Calendar 2.0//EN
METHOD:PUBLISH
X-PUBLISHED-TTL:P3D
REFRESH-INTERVAL:P3D
CALSCALE:GREGORIAN
BEGIN:VEVENT
DTSTART:20091121T193000Z
DTEND:20091121T223000Z
X-MICROSOFT-CDO-ALLDAYEVENT:FALSE
SUMMARY:Harlingen Municipal Auditorium Open House Celebration
DESCRIPTION:The public is cordially invited to an open house in celebration of the newly renovated Harlingen Municipal Auditorium.  Harlingen High School South ROTC will present the colors followed by an opening speech by Harlingen Mayor Chris Boswell.  Music will be provided by Harlingen High School South orchestra directed by Jason Hooper.
X-ALT-DESC;FMTTYPE=text/html:The public is cordially invited to an open house in celebration of the newly renovated Harlingen Municipal Auditorium.  Harlingen High School South ROTC will present the colors followed by an opening speech by Harlingen Mayor Chris Boswell.  Music will be provided by Harlingen High School South orchestra directed by Jason Hooper.
LOCATION:
UID:e.1828.2217
SEQUENCE:3
DTSTAMP:20260422T130247Z
URL:https://business.harlingen.com/events/details/harlingen-municipal-auditorium-open-house-celebration-11-21-2009-2217
END:VEVENT

END:VCALENDAR
