BEGIN:VCALENDAR
VERSION:2.0
PRODID:-//ChamberMaster//Event Calendar 2.0//EN
METHOD:PUBLISH
X-PUBLISHED-TTL:P3D
REFRESH-INTERVAL:P3D
CALSCALE:GREGORIAN
BEGIN:VEVENT
DTSTART:20110210T180000Z
DTEND:20110224T190000Z
X-MICROSOFT-CDO-ALLDAYEVENT:FALSE
SUMMARY:HARLINGEN NOON TOASTMASTERS CLUB
DESCRIPTION:HARLINGEN NOON TOASTMASTERS CLUB\nINVITES YOU TO BE OUR GUEST AT THE NEXT"PUBLIC SPEAKING WORKSHOP"\nDATE:  THURSDAY\, FEBRUARY 10\, 17\, & 24\n3 CONSECUTIVE THURSDAYS\nPLACE:  HARLINGEN CHAMBER OF COMMERCE\nTIME:  12:00 TO 1:00 p.m.\nThe workshop will be presented by our club sponsor\, Mr. Brian Epps\, and various members of the Harlingen Noon Toastmaster Club. In these three one hour sessions\, participants will learn and practice public speaking techniques\, introducing a speaker\, presenting a prepared speech\, responding to an impromptu topic\, and receiving and giving feedback.  Whether you have a fear of speaking or want to improve your skills\, this course will be beneficial to you.  Participants have fun while they learn. There is a $20 fee for study materials.   \nFOR MORE INFORMATION AND/OR TO REGISTER\, CALL KATHY PAYTON AT 956-245-3433\n\nFUN       LEARNING      FRIENDS     COMMUNICATION SKILLS
X-ALT-DESC;FMTTYPE=text/html:HARLINGEN NOON TOASTMASTERS CLUB\nINVITES YOU TO BE OUR GUEST AT THE NEXT"PUBLIC SPEAKING WORKSHOP"\nDATE:  THURSDAY\, FEBRUARY 10\, 17\, & 24\n3 CONSECUTIVE THURSDAYS\nPLACE:  HARLINGEN CHAMBER OF COMMERCE\nTIME:  12:00 TO 1:00 p.m.\nThe workshop will be presented by our club sponsor\, Mr. Brian Epps\, and various members of the Harlingen Noon Toastmaster Club. In these three one hour sessions\, participants will learn and practice public speaking techniques\, introducing a speaker\, presenting a prepared speech\, responding to an impromptu topic\, and receiving and giving feedback.  Whether you have a fear of speaking or want to improve your skills\, this course will be beneficial to you.  Participants have fun while they learn. There is a $20 fee for study materials.   \nFOR MORE INFORMATION AND/OR TO REGISTER\, CALL KATHY PAYTON AT 956-245-3433\n\nFUN       LEARNING      FRIENDS     COMMUNICATION SKILLS\n\n\n\n\n\n\n
LOCATION:
UID:e.1828.2904
SEQUENCE:3
DTSTAMP:20260421T142423Z
URL:https://business.harlingen.com/events/details/harlingen-noon-toastmasters-club-02-10-2011-2904
END:VEVENT

END:VCALENDAR
