BEGIN:VCALENDAR
VERSION:2.0
PRODID:-//ChamberMaster//Event Calendar 2.0//EN
METHOD:PUBLISH
X-PUBLISHED-TTL:P3D
REFRESH-INTERVAL:P3D
CALSCALE:GREGORIAN
BEGIN:VEVENT
DTSTART:20100812T170000Z
DTEND:20100812T180000Z
X-MICROSOFT-CDO-ALLDAYEVENT:FALSE
SUMMARY:Harlingen Noon Toastmasters Club Meeting
DESCRIPTION:Do you have a fear of speaking in front of people? Do you want to improve yourself professionally? If you said yes to either of these questions\, consider joining the Harlingen Noon Toastmasters Club\, which meets every Thursday at the Harlingen Chamber.  Toastmasters International provides business professionals the tools and confidence to speak in public and run successful meetings.  If you'd like to test the waters and see if Toastmasters can benefit you professionally\, please come by the Harlingen Chamber at noon this Thursday\, August 4th. If you feel that Toastmasters is right for you\, there is a fee of $60 to join. But you can't go wrong investing in yourself!   For more information\, please contact Kathy Wolf at the Harlingen Chamber:  423-5440 x 212.
X-ALT-DESC;FMTTYPE=text/html:Do you have a fear of speaking in front of people? Do you want to improve yourself professionally? If you said yes to either of these questions\, consider joining the Harlingen Noon Toastmasters Club\, which meets every Thursday at the Harlingen Chamber.  Toastmasters International provides business professionals the tools and confidence to speak in public and run successful meetings.  If you'd like to test the waters and see if Toastmasters can benefit you professionally\, please come by the Harlingen Chamber at noon this Thursday\, August 4th. If you feel that Toastmasters is right for you\, there is a fee of $60 to join. But you can't go wrong investing in yourself!   For more information\, please contact Kathy Wolf at the Harlingen Chamber:  423-5440 x 212. \n
LOCATION:
UID:e.1828.2626
SEQUENCE:3
DTSTAMP:20260422T002003Z
URL:https://business.harlingen.com/events/details/harlingen-noon-toastmasters-club-meeting-08-12-2010-2626
END:VEVENT

END:VCALENDAR
