BEGIN:VCALENDAR
VERSION:2.0
PRODID:-//ChamberMaster//Event Calendar 2.0//EN
METHOD:PUBLISH
X-PUBLISHED-TTL:P3D
REFRESH-INTERVAL:P3D
CALSCALE:GREGORIAN
BEGIN:VEVENT
DTSTART:20120322T170000Z
DTEND:20120322T170000Z
X-MICROSOFT-CDO-ALLDAYEVENT:FALSE
SUMMARY:Harlingen Noon Toastmasters Workshop
DESCRIPTION:Guest speaker Dr. Vern Wheelwright will present a 50 minute workshop entitled "Figuring out Your Future\," one of the advanced Toastmasters manual projects. Presentation will include: Understand your Life\, Explore Potential Futures and Create a Vision and Plan for the Future. This workshop is free! 12 noon  (please arrive before noon)
X-ALT-DESC;FMTTYPE=text/html:Guest speaker Dr. Vern Wheelwright will present a 50 minute workshop entitled "Figuring out Your Future\," one of the advanced Toastmasters manual projects. Presentation will include: Understand your Life\, Explore Potential Futures and Create a Vision and Plan for the Future. This workshop is free! 12 noon  (please arrive before noon)  \n    \n \n
LOCATION:
UID:e.1828.3573
SEQUENCE:3
DTSTAMP:20260420T181809Z
URL:https://business.harlingen.com/events/details/harlingen-noon-toastmasters-workshop-03-22-2012-3573
END:VEVENT

END:VCALENDAR
