BEGIN:VCALENDAR
VERSION:2.0
PRODID:-//ChamberMaster//Event Calendar 2.0//EN
METHOD:PUBLISH
X-PUBLISHED-TTL:P3D
REFRESH-INTERVAL:P3D
CALSCALE:GREGORIAN
BEGIN:VEVENT
DTSTART;VALUE=DATE:20110219
DTEND;VALUE=DATE:20110220
TRANSP:TRANSPARENT
X-MICROSOFT-CDO-ALLDAYEVENT:TRUE
SUMMARY:Harlingen Open Round Robin Doubles Tournament/ Harlingen Table Tennis Club
DESCRIPTION:Now available!\n\nApplication for Vic's 21st Challenge tournament on February 15\, 16\, and 17.\n\nApplication for Harlingen Doubles RR Table Tennis Tournament on February 19.\n\n Participation Open for All Ages!\nCheck website for More Information:  www.hgnttc.org
X-ALT-DESC;FMTTYPE=text/html:Now available!\n\nApplication for Vic's 21st Challenge tournament on February 15\, 16\, and 17.\n\nApplication for Harlingen Doubles RR Table Tennis Tournament on February 19.\n\n Participation Open for All Ages!\nCheck website for More Information:  www.hgnttc.org  \n\n\n\n
LOCATION:
UID:e.1828.2911
SEQUENCE:3
DTSTAMP:20260421T155004Z
URL:https://business.harlingen.com/events/details/harlingen-open-round-robin-doubles-tournament-harlingen-table-tennis-club-02-19-2011-2911
END:VEVENT

END:VCALENDAR
