BEGIN:VCALENDAR
VERSION:2.0
PRODID:-//ChamberMaster//Event Calendar 2.0//EN
METHOD:PUBLISH
X-PUBLISHED-TTL:P3D
REFRESH-INTERVAL:P3D
CALSCALE:GREGORIAN
BEGIN:VEVENT
DTSTART;VALUE=DATE:20100719
DTEND;VALUE=DATE:20100731
TRANSP:TRANSPARENT
X-MICROSOFT-CDO-ALLDAYEVENT:TRUE
SUMMARY:Harlingen Parks & Recreation Summer Art 4 Kids Program
DESCRIPTION:Classes in painting\, drawing\, sculpture\, magic & science camp\, crochet\, & ocean & nature arts & crafts.  Ages 4 through 18.  For more information\, or to pre-register\, please contact the Harlingen Parks & Recreation Department at 956-216-5950.  Classes will be held at the Harlingen Arts & Heritage Museum.
X-ALT-DESC;FMTTYPE=text/html:Classes in painting\, drawing\, sculpture\, magic & science camp\, crochet\, & ocean & nature arts & crafts.  Ages 4 through 18.  For more information\, or to pre-register\, please contact the Harlingen Parks & Recreation Department at 956-216-5950.  Classes will be held at the Harlingen Arts & Heritage Museum.
LOCATION:
UID:e.1828.2559
SEQUENCE:3
DTSTAMP:20260422T015334Z
URL:https://business.harlingen.com/events/details/harlingen-parks-recreation-summer-art-4-kids-program-07-19-2010-2559
END:VEVENT

END:VCALENDAR
