BEGIN:VCALENDAR
VERSION:2.0
PRODID:-//ChamberMaster//Event Calendar 2.0//EN
METHOD:PUBLISH
X-PUBLISHED-TTL:P3D
REFRESH-INTERVAL:P3D
CALSCALE:GREGORIAN
BEGIN:VEVENT
DTSTART;VALUE=DATE:20110225
DTEND;VALUE=DATE:20110228
TRANSP:TRANSPARENT
X-MICROSOFT-CDO-ALLDAYEVENT:TRUE
SUMMARY:Harlingen Performing Arts Theatre "Greater Tuna "
DESCRIPTION:"Greater Tuna " on air the hilarious comedy about Texas' 3rd smallest town by Jaston Williams\, Joe Sears\, & Ed Howard. Contains adult humor and satire. Performance dates February 25\, 26\, 27 tickets can be purchased at the door for $15.00 each. For more details on show times please call 956-412-7529 on website www.hpatonline.net.
X-ALT-DESC;FMTTYPE=text/html:"Greater Tuna " on air the hilarious comedy about Texas' 3rd smallest town by Jaston Williams\, Joe Sears\, & Ed Howard. Contains adult humor and satire. Performance dates February 25\, 26\, 27 tickets can be purchased at the door for $15.00 each. For more details on show times please call 956-412-7529 on website www.hpatonline.net. 
LOCATION:
UID:e.1828.2880
SEQUENCE:3
DTSTAMP:20260421T154754Z
URL:https://business.harlingen.com/events/details/harlingen-performing-arts-theatre-greater-tuna-02-25-2011-2880
END:VEVENT

END:VCALENDAR
