BEGIN:VCALENDAR
VERSION:2.0
PRODID:-//ChamberMaster//Event Calendar 2.0//EN
METHOD:PUBLISH
X-PUBLISHED-TTL:P3D
REFRESH-INTERVAL:P3D
CALSCALE:GREGORIAN
BEGIN:VEVENT
DTSTART;VALUE=DATE:20110304
DTEND;VALUE=DATE:20110307
TRANSP:TRANSPARENT
X-MICROSOFT-CDO-ALLDAYEVENT:TRUE
SUMMARY:Harlingen Performing Arts Theatre "Greater Tuna"
DESCRIPTION:"Greater Tuna" the hilarious comedy about Texas 3rd smallest town by Jaston Williams\, Joe Sears\, and Ed Howard. Contains adult humor and satire.  Performance dates March 4\, 5\, 6 tickets can be purchased at the door for $15.00 each.  For furthur details on show times please call 956-412-7529 or website www.hpatonline.net.
X-ALT-DESC;FMTTYPE=text/html:"Greater Tuna" the hilarious comedy about Texas 3rd smallest town by Jaston Williams\, Joe Sears\, and Ed Howard. Contains adult humor and satire.  Performance dates March 4\, 5\, 6 tickets can be purchased at the door for $15.00 each.  For furthur details on show times please call 956-412-7529 or website www.hpatonline.net.
LOCATION:
UID:e.1828.2881
SEQUENCE:3
DTSTAMP:20260421T124907Z
URL:https://business.harlingen.com/events/details/harlingen-performing-arts-theatre-greater-tuna-03-04-2011-2881
END:VEVENT

END:VCALENDAR
