BEGIN:VCALENDAR
VERSION:2.0
PRODID:-//ChamberMaster//Event Calendar 2.0//EN
METHOD:PUBLISH
X-PUBLISHED-TTL:P3D
REFRESH-INTERVAL:P3D
CALSCALE:GREGORIAN
BEGIN:VEVENT
DTSTART;VALUE=DATE:20101022
DTEND;VALUE=DATE:20101025
TRANSP:TRANSPARENT
X-MICROSOFT-CDO-ALLDAYEVENT:TRUE
SUMMARY:Harlingen Performing Arts Theatre Presents Greater Tuna
DESCRIPTION:Tickets $15 per person.  Performance contains adult humor.  Please call 956-412-7529 for show times or further details.
X-ALT-DESC;FMTTYPE=text/html:Tickets $15 per person.  Performance contains adult humor.  Please call 956-412-7529 for show times or further details.
LOCATION:
UID:e.1828.2757
SEQUENCE:3
DTSTAMP:20260421T204028Z
URL:https://business.harlingen.com/events/details/harlingen-performing-arts-theatre-presents-greater-tuna-10-22-2010-2757
END:VEVENT

END:VCALENDAR
