BEGIN:VCALENDAR
VERSION:2.0
PRODID:-//ChamberMaster//Event Calendar 2.0//EN
METHOD:PUBLISH
X-PUBLISHED-TTL:P3D
REFRESH-INTERVAL:P3D
CALSCALE:GREGORIAN
BEGIN:VEVENT
DTSTART;VALUE=DATE:20100513
DTEND;VALUE=DATE:20100517
TRANSP:TRANSPARENT
X-MICROSOFT-CDO-ALLDAYEVENT:TRUE
SUMMARY:Harlingen Performing Arts Theatre Presents "Veronica's Room"
DESCRIPTION:Harlingen Performing Arts Theatre presents Ira Levin's psychological thriller "Veronica's Room" on May 13\, 14\, 15\nat 7:30 PM and May 16 at 2:30 PM.  Tickets available at the door or by calling (956) 412-7529.  Tickets $15 for Adults\, $12 for Seniors\, $10 for Students with ID & $5 age 18 & under.  Produced by special arrangement with Samuel French\, Inc.\, NY.
X-ALT-DESC;FMTTYPE=text/html:Harlingen Performing Arts Theatre presents Ira Levin's psychological thriller "Veronica's Room" on May 13\, 14\, 15\nat 7:30 PM and May 16 at 2:30 PM.  Tickets available at the door or by calling (956) 412-7529.  Tickets $15 for Adults\, $12 for Seniors\, $10 for Students with ID & $5 age 18 & under.  Produced by special arrangement with Samuel French\, Inc.\, NY.\n \n
LOCATION:
UID:e.1828.2473
SEQUENCE:3
DTSTAMP:20260422T051105Z
URL:https://business.harlingen.com/events/details/harlingen-performing-arts-theatre-presents-veronica-s-room-05-13-2010-2473
END:VEVENT

END:VCALENDAR
