BEGIN:VCALENDAR
VERSION:2.0
PRODID:-//ChamberMaster//Event Calendar 2.0//EN
METHOD:PUBLISH
X-PUBLISHED-TTL:P3D
REFRESH-INTERVAL:P3D
CALSCALE:GREGORIAN
BEGIN:VEVENT
DTSTART:20100803T230000Z
DTEND:20100804T030000Z
X-MICROSOFT-CDO-ALLDAYEVENT:FALSE
SUMMARY:HARLINGEN POLICE DEPARTMENT NATIONAL NIGHT OUT
DESCRIPTION:Help the HARLINGEN POLICE DEPARTMENT get the word out !  NATIONAL NIGHT OUT FIESTA IN HARLINGEN \nCELEBRATING 100 YEARS.  TUESDAY\, AUGUST 3 FROM 6:00 PM TO 10:00  PM AT LON C. HILL PARK ON FAIR PARK BLVD.  FREE MUSIC\, FOOD\, AND MUCH MORE !  SOME BOOTHS STILL AVAILABLE !   FOR INFO CALL: (956) 202-5175   /  (956) 216-5514.
X-ALT-DESC;FMTTYPE=text/html:Help the HARLINGEN POLICE DEPARTMENT get the word out !  NATIONAL NIGHT OUT FIESTA IN HARLINGEN \nCELEBRATING 100 YEARS.  TUESDAY\, AUGUST 3 FROM 6:00 PM TO 10:00  PM AT LON C. HILL PARK ON FAIR PARK BLVD.  FREE MUSIC\, FOOD\, AND MUCH MORE !  SOME BOOTHS STILL AVAILABLE !   FOR INFO CALL: (956) 202-5175   /  (956) 216-5514.\n
LOCATION:Across from the Harlingen Municipal Auditorium on Fair Park Blvd.
UID:e.1828.2621
SEQUENCE:3
DTSTAMP:20260422T002237Z
URL:https://business.harlingen.com/events/details/harlingen-police-department-national-night-out-08-03-2010-2621
END:VEVENT

END:VCALENDAR
