BEGIN:VCALENDAR
VERSION:2.0
PRODID:-//ChamberMaster//Event Calendar 2.0//EN
METHOD:PUBLISH
X-PUBLISHED-TTL:P3D
REFRESH-INTERVAL:P3D
CALSCALE:GREGORIAN
BEGIN:VEVENT
DTSTART;VALUE=DATE:20110117
DTEND;VALUE=DATE:20110118
TRANSP:TRANSPARENT
X-MICROSOFT-CDO-ALLDAYEVENT:TRUE
SUMMARY:Harlingen Police Department New Class in the Citizens' Police Academy
DESCRIPTION:The Harlingen Police Department is offering a new class in the Citizens' Police Academy\, starting Monday\, January 17\, 2011 at 6:00 p.m.\n The ten-week course lasts 3 hours each Monday and covers many aspects of police procedures including: Criminal Law\, Court Cases\, Traffic Law\, Arrest Procedures\, Use of Force\, Handgun Training and Criminal Investigations. Academy members will also be allowed to ride along with officers in the Patrol Division. CPA Applicants must be residents of Harlingen\, at least 21 years of age and pass a background check. Please contact Officer Emilio Weaver for more information or to register you may also download an application and deliver to the Harlingen Police Department: http://www.myharlingen.us/docs/20-police.CPA.pdf
X-ALT-DESC;FMTTYPE=text/html:The Harlingen Police Department is offering a new class in the Citizens' Police Academy\, starting Monday\, January 17\, 2011 at 6:00 p.m.\n The ten-week course lasts 3 hours each Monday and covers many aspects of police procedures including: Criminal Law\, Court Cases\, Traffic Law\, Arrest Procedures\, Use of Force\, Handgun Training and Criminal Investigations. Academy members will also be allowed to ride along with officers in the Patrol Division. CPA Applicants must be residents of Harlingen\, at least 21 years of age and pass a background check. Please contact Officer Emilio Weaver for more information or to register you may also download an application and deliver to the Harlingen Police Department: http://www.myharlingen.us/docs/20-police.CPA.pdf\n
LOCATION:
UID:e.1828.2895
SEQUENCE:3
DTSTAMP:20260421T172220Z
URL:https://business.harlingen.com/events/details/harlingen-police-department-new-class-in-the-citizens-police-academy-01-17-2011-2895
END:VEVENT

END:VCALENDAR
