BEGIN:VCALENDAR
VERSION:2.0
PRODID:-//ChamberMaster//Event Calendar 2.0//EN
METHOD:PUBLISH
X-PUBLISHED-TTL:P3D
REFRESH-INTERVAL:P3D
CALSCALE:GREGORIAN
BEGIN:VEVENT
DTSTART:20101201T003000Z
DTEND:20101201T033000Z
X-MICROSOFT-CDO-ALLDAYEVENT:FALSE
SUMMARY:Harlingen Rotary Club Girls Night Out!
DESCRIPTION:Ladies will enjoy a fun evening of Holiday Shopping\, Complimentary Spa Treatments & Salsa Lessons!  Tuesday evening\, November 30th from 6:30 to 9:30 pm at the TSTC Cultural Arts Center on Loop 499.   Great food and wine will be hand-served by the gentlemen of the Harlingen Rotary Club.   Ticket price of $30 in advance or $40 at the door includes 2 glasses of wine & a special signature drink created just for the event.  Advance sale tickets will be available at the Harlingen Area Chamber of Commerce located at 311 E. Tyler\, or from a Harlingen Rotary Club member.  Funds will benefit Rotary Scholarships and local and International Health & Human Service Agencies.  For more information\, please contact Janet Hubbard at (956) 423-1014.
X-ALT-DESC;FMTTYPE=text/html:Ladies will enjoy a fun evening of Holiday Shopping\, Complimentary Spa Treatments & Salsa Lessons!  Tuesday evening\, November 30th from 6:30 to 9:30 pm at the TSTC Cultural Arts Center on Loop 499.   Great food and wine will be hand-served by the gentlemen of the Harlingen Rotary Club.   Ticket price of $30 in advance or $40 at the door includes 2 glasses of wine & a special signature drink created just for the event.  Advance sale tickets will be available at the Harlingen Area Chamber of Commerce located at 311 E. Tyler\, or from a Harlingen Rotary Club member.  Funds will benefit Rotary Scholarships and local and International Health & Human Service Agencies.  For more information\, please contact Janet Hubbard at (956) 423-1014.\n
LOCATION:
UID:e.1828.2685
SEQUENCE:3
DTSTAMP:20260421T204055Z
URL:https://business.harlingen.com/events/details/harlingen-rotary-club-girls-night-out-11-30-2010-2685
END:VEVENT

END:VCALENDAR
