BEGIN:VCALENDAR
VERSION:2.0
PRODID:-//ChamberMaster//Event Calendar 2.0//EN
METHOD:PUBLISH
X-PUBLISHED-TTL:P3D
REFRESH-INTERVAL:P3D
CALSCALE:GREGORIAN
BEGIN:VEVENT
DTSTART:20101113T000000Z
DTEND:20101113T000000Z
X-MICROSOFT-CDO-ALLDAYEVENT:FALSE
SUMMARY:Harlingen Rotary Club Winemaker's Dinner
DESCRIPTION:You won't want to miss this Rotary fundraising dinner benefitting the University Articulation Center at TSTC.  The dinner will take place at Calesa restaurant located at 1116 S. Commerce.  You'll be treated to a 5-course meal with a different wine paired with each course.  A wine expert will be on hand to describe each wine and each person will receive a free stemmed wine glass.  Tickets are $150 per person.  Dinner starts at 6:00 pm.  For more information\, please contact Janet Hubbard at (956) 423-1014.
X-ALT-DESC;FMTTYPE=text/html:You won't want to miss this Rotary fundraising dinner benefitting the University Articulation Center at TSTC.  The dinner will take place at Calesa restaurant located at 1116 S. Commerce.  You'll be treated to a 5-course meal with a different wine paired with each course.  A wine expert will be on hand to describe each wine and each person will receive a free stemmed wine glass.  Tickets are $150 per person.  Dinner starts at 6:00 pm.  For more information\, please contact Janet Hubbard at (956) 423-1014.\n
LOCATION:
UID:e.1828.2682
SEQUENCE:3
DTSTAMP:20260421T185936Z
URL:https://business.harlingen.com/events/details/harlingen-rotary-club-winemaker-s-dinner-11-12-2010-2682
END:VEVENT

END:VCALENDAR
