BEGIN:VCALENDAR
VERSION:2.0
PRODID:-//ChamberMaster//Event Calendar 2.0//EN
METHOD:PUBLISH
X-PUBLISHED-TTL:P3D
REFRESH-INTERVAL:P3D
CALSCALE:GREGORIAN
BEGIN:VEVENT
DTSTART:20120331T190000Z
DTEND:20120331T220000Z
X-MICROSOFT-CDO-ALLDAYEVENT:FALSE
SUMMARY:Harlingen's Annual Valley Praise Egg Drop Easter Event
DESCRIPTION:For information call City of Harlingen\, Parks & Recreation Dept. Esmeralda Martinez 956-216-5950 or e-mail emartinez@myharlingen.us
X-ALT-DESC;FMTTYPE=text/html:For information call City of Harlingen\, Parks & Recreation Dept. Esmeralda Martinez 956-216-5950 or e-mail emartinez@myharlingen.us
LOCATION:
UID:e.1828.3579
SEQUENCE:3
DTSTAMP:20260420T194847Z
URL:https://business.harlingen.com/events/details/harlingen-s-annual-valley-praise-egg-drop-easter-event-03-31-2012-3579
END:VEVENT

END:VCALENDAR
