BEGIN:VCALENDAR
VERSION:2.0
PRODID:-//ChamberMaster//Event Calendar 2.0//EN
METHOD:PUBLISH
X-PUBLISHED-TTL:P3D
REFRESH-INTERVAL:P3D
CALSCALE:GREGORIAN
BEGIN:VEVENT
DTSTART;VALUE=DATE:20100121
DTEND;VALUE=DATE:20100124
TRANSP:TRANSPARENT
X-MICROSOFT-CDO-ALLDAYEVENT:TRUE
SUMMARY:Harlingen's Centennial Shop Hop
DESCRIPTION:Mark your calendars for Harlingen's Centennial Shop Hop.  Participating stores include Antique Emporium\, Cossey Creations\, D'Arte Centre\, Hand of Man\, Healthy Lifestyle\, Judy's Stitchery\, Lupita's Rebozos\, Lo Rees Dress Shop\, Picket Fence & Quelle Boutique.  Pick up a map at any of these shops.  Proceeds to benefit Loaves & Fishes.  For more information\, please call 956-423-4933.
X-ALT-DESC;FMTTYPE=text/html:Mark your calendars for Harlingen's Centennial Shop Hop.  Participating stores include Antique Emporium\, Cossey Creations\, D'Arte Centre\, Hand of Man\, Healthy Lifestyle\, Judy's Stitchery\, Lupita's Rebozos\, Lo Rees Dress Shop\, Picket Fence & Quelle Boutique.  Pick up a map at any of these shops.  Proceeds to benefit Loaves & Fishes.  For more information\, please call 956-423-4933.
LOCATION:
UID:e.1828.2219
SEQUENCE:3
DTSTAMP:20260422T112003Z
URL:https://business.harlingen.com/events/details/harlingen-s-centennial-shop-hop-01-21-2010-2219
END:VEVENT

END:VCALENDAR
