BEGIN:VCALENDAR
VERSION:2.0
PRODID:-//ChamberMaster//Event Calendar 2.0//EN
METHOD:PUBLISH
X-PUBLISHED-TTL:P3D
REFRESH-INTERVAL:P3D
CALSCALE:GREGORIAN
BEGIN:VEVENT
DTSTART:20110704T150000Z
DTEND:20110704T150000Z
X-MICROSOFT-CDO-ALLDAYEVENT:FALSE
SUMMARY:Harlingen's Fourth of July Festivities
DESCRIPTION:RGV Jaycees 4th of July Parade\nMonday\, July 4th\nDowntown Jackson Street\n10:00am\n \nCity of Harlingen 4th of July Event\nMonday\, July 4th\nFair Park | Harlingen\n4pm to 7pm\nFREE Admission\nLots of fun and games for the entire family!!   \nWatermelon\nFace Painting\nDunk Tank\nRock Climbing\nMechanical Bull\nFire truck Inflatable Slide\nSumo Wrestling Ring\nBungee Trampoline\nBasketball Shootout  \nLive Music from 7pm to 10pm\n \nRGV WhiteWings vs San Angelo Colts Game\nMonday\, July 4th at 7:00pm\nHarlingen Field\n \nCity of Harlingen 4th of July Fireworks\nHarlingen Field (After the WhiteWings game ends)\nBring your lawn chairs!!\n \nIf you are interested in volunteering to help serve watermelon\, with face-painting or other planned games and activities\, please contact Sylvia M. Flores\, Community Development Department\, Administrative Technician II at 956-216-5181
X-ALT-DESC;FMTTYPE=text/html:RGV Jaycees 4th of July Parade\nMonday\, July 4th\nDowntown Jackson Street\n10:00am\n \nCity of Harlingen 4th of July Event\nMonday\, July 4th\nFair Park | Harlingen\n4pm to 7pm\nFREE Admission\nLots of fun and games for the entire family!!   \nWatermelon\nFace Painting\nDunk Tank\nRock Climbing\nMechanical Bull\nFire truck Inflatable Slide\nSumo Wrestling Ring\nBungee Trampoline\nBasketball Shootout  \nLive Music from 7pm to 10pm\n \nRGV WhiteWings vs San Angelo Colts Game\nMonday\, July 4th at 7:00pm\nHarlingen Field\n \nCity of Harlingen 4th of July Fireworks\nHarlingen Field (After the WhiteWings game ends)\nBring your lawn chairs!!\n \nIf you are interested in volunteering to help serve watermelon\, with face-painting or other planned games and activities\, please contact Sylvia M. Flores\, Community Development Department\, Administrative Technician II at 956-216-5181\n
LOCATION:
UID:e.1828.3091
SEQUENCE:3
DTSTAMP:20260421T064343Z
URL:https://business.harlingen.com/events/details/harlingen-s-fourth-of-july-festivities-07-04-2011-3091
END:VEVENT

END:VCALENDAR
