BEGIN:VCALENDAR
VERSION:2.0
PRODID:-//ChamberMaster//Event Calendar 2.0//EN
METHOD:PUBLISH
X-PUBLISHED-TTL:P3D
REFRESH-INTERVAL:P3D
CALSCALE:GREGORIAN
BEGIN:VEVENT
DTSTART:20100304T143000Z
DTEND:20100304T143000Z
X-MICROSOFT-CDO-ALLDAYEVENT:FALSE
SUMMARY:Harlingen's Good Morning Downtown Coffee
DESCRIPTION:Come for coffee and conversation about what's happening in Downtown Harlingen\, including upcoming events\, new businesses\, partnerships\, and more.  Plus\, a special "Then and Now" Centennial presentation on Harlingen featuring more than 75 historic photos!  Free and open to the public -- bring a friend!  Coffee\, fruit and muffins courtesy of the Harlingen Art Forum.  For more info\, call the Harlingen Downtown Office\, (956) 216-4910.
X-ALT-DESC;FMTTYPE=text/html:Come for coffee and conversation about what's happening in Downtown Harlingen\, including upcoming events\, new businesses\, partnerships\, and more.  Plus\, a special "Then and Now" Centennial presentation on Harlingen featuring more than 75 historic photos!  Free and open to the public -- bring a friend!  Coffee\, fruit and muffins courtesy of the Harlingen Art Forum.  For more info\, call the Harlingen Downtown Office\, (956) 216-4910.
LOCATION:
UID:e.1828.2420
SEQUENCE:3
DTSTAMP:20260422T080859Z
URL:https://business.harlingen.com/events/details/harlingen-s-good-morning-downtown-coffee-03-04-2010-2420
END:VEVENT

END:VCALENDAR
