BEGIN:VCALENDAR
VERSION:2.0
PRODID:-//ChamberMaster//Event Calendar 2.0//EN
METHOD:PUBLISH
X-PUBLISHED-TTL:P3D
REFRESH-INTERVAL:P3D
CALSCALE:GREGORIAN
BEGIN:VEVENT
DTSTART:20120613T190000Z
DTEND:20120613T190000Z
X-MICROSOFT-CDO-ALLDAYEVENT:FALSE
SUMMARY:HARLINGEN – SAN BENITO METROPOLITAN PLANNING ORGANIZATION MEETING
DESCRIPTION:The HSBMPO TPC will be hosting its regular meeting on Wednesday\, June 13\, 2012 at the Harlingen Town Hall\, 118 E. Tyler\, Harlingen\, at 2:00 p.m. Items on the agenda include: \n1. Welcome & Introductions\n2. Roll Call & Establishment of Quorum\n3. Public Comment\n4. Consideration and Approval of May 2\, 2012 and May 24\, 2012 TPC\n    Meeting Minutes\n5. Consideration and Approval of the 2010-2035 Metropolitan\n    Transportation Plan (MTP) Revision #5\n6. Consideration and Approval of the 2011-2014 Transportation\n    Improvement Program(TIP) Revision #5\n7. Discussion of the Renewal of the Panning Contract between TxDOT\n    & City of Harlingen (Fiscal Agent)\n8. Discussion of FY 2013 Draft Unified Planning Work Program (MPO\n    Budget)\n9. Presentation of Hidalgo County Commuter Rail District Feasibility\n    Study\n10. Status Reports\n11. Meeting Adjournment\n\nThis notice is to be posted in the bulletin boards of the City Halls and Chamber of Commerce of the cities within the Metropolitan Boundary Area and/or in a location convenient and readily accessible to general\npublic at all times\, and said Notice will be posted on the 8th day of June\, 2012 at 2:00 pm and will remain so posted continuously for at least 72 hours preceding the scheduled time of said meeting in\naccordance with Article 6252-17\, Vernon's Annotated Statutes (Open Meetings Act).
X-ALT-DESC;FMTTYPE=text/html:The HSBMPO TPC will be hosting its regular meeting on Wednesday\, June 13\, 2012 at the Harlingen Town Hall\, 118 E. Tyler\, Harlingen\, at 2:00 p.m. Items on the agenda include: \n1. Welcome & Introductions\n2. Roll Call & Establishment of Quorum\n3. Public Comment\n4. Consideration and Approval of May 2\, 2012 and May 24\, 2012 TPC\n    Meeting Minutes\n5. Consideration and Approval of the 2010-2035 Metropolitan\n    Transportation Plan (MTP) Revision #5\n6. Consideration and Approval of the 2011-2014 Transportation\n    Improvement Program(TIP) Revision #5\n7. Discussion of the Renewal of the Panning Contract between TxDOT\n    & City of Harlingen (Fiscal Agent)\n8. Discussion of FY 2013 Draft Unified Planning Work Program (MPO\n    Budget)\n9. Presentation of Hidalgo County Commuter Rail District Feasibility\n    Study\n10. Status Reports\n11. Meeting Adjournment\n\nThis notice is to be posted in the bulletin boards of the City Halls and Chamber of Commerce of the cities within the Metropolitan Boundary Area and/or in a location convenient and readily accessible to general\npublic at all times\, and said Notice will be posted on the 8th day of June\, 2012 at 2:00 pm and will remain so posted continuously for at least 72 hours preceding the scheduled time of said meeting in\naccordance with Article 6252-17\, Vernon's Annotated Statutes (Open Meetings Act).\n
LOCATION:
UID:e.1828.3755
SEQUENCE:3
DTSTAMP:20260420T132641Z
URL:https://business.harlingen.com/events/details/harlingen-san-benito-metropolitan-planning-organization-meeting-06-13-2012-3755
END:VEVENT

END:VCALENDAR
