BEGIN:VCALENDAR
VERSION:2.0
PRODID:-//ChamberMaster//Event Calendar 2.0//EN
METHOD:PUBLISH
X-PUBLISHED-TTL:P3D
REFRESH-INTERVAL:P3D
CALSCALE:GREGORIAN
BEGIN:VEVENT
DTSTART:20120322T230000Z
DTEND:20120323T000000Z
X-MICROSOFT-CDO-ALLDAYEVENT:FALSE
SUMMARY:Harlingen-San Benito Metropolitan Planning Organization Public Meeting
DESCRIPTION:The Harlingen-San Benito Metropolitan Planning Organization (MPO) is in the transition from the 2011-2014 Transportation Improvement Program (TIP)\, to the 2013-2016 Transportation Improvement Program (TIP) as required by the Texas Administrative Code. As with all TIPs\, transportation projects that receive federal funding or will require US DOT approval must be listed in the TIP. Public comment period is from February 27\, 2012 to March 27\, 2012. Please voice your comments\, questions\, and concerns to us through mail\, email\, or phone. For more information: Harlingen-San Benito MPO\, 502 East Tyler Street\, (956) 216-5240 or hsbmpo@myharlingen.us (or) www.hsbmpo.com
X-ALT-DESC;FMTTYPE=text/html:The Harlingen-San Benito Metropolitan Planning Organization (MPO) is in the transition from the 2011-2014 Transportation Improvement Program (TIP)\, to the 2013-2016 Transportation Improvement Program (TIP) as required by the Texas Administrative Code. As with all TIPs\, transportation projects that receive federal funding or will require US DOT approval must be listed in the TIP. Public comment period is from February 27\, 2012 to March 27\, 2012. Please voice your comments\, questions\, and concerns to us through mail\, email\, or phone. For more information: Harlingen-San Benito MPO\, 502 East Tyler Street\, (956) 216-5240 or hsbmpo@myharlingen.us (or) www.hsbmpo.com
LOCATION:
UID:e.1828.3549
SEQUENCE:3
DTSTAMP:20260420T182332Z
URL:https://business.harlingen.com/events/details/harlingen-san-benito-metropolitan-planning-organization-public-meeting-03-22-2012-3549
END:VEVENT

END:VCALENDAR
