BEGIN:VCALENDAR
VERSION:2.0
PRODID:-//ChamberMaster//Event Calendar 2.0//EN
METHOD:PUBLISH
X-PUBLISHED-TTL:P3D
REFRESH-INTERVAL:P3D
CALSCALE:GREGORIAN
BEGIN:VEVENT
DTSTART;VALUE=DATE:20120423
DTEND;VALUE=DATE:20120601
TRANSP:TRANSPARENT
X-MICROSOFT-CDO-ALLDAYEVENT:TRUE
SUMMARY:Harlingen-San Benito MPO Bicycle & Pedestrian Plan
DESCRIPTION:The Harlingen-San Benito MPO is currently working on a Bicycle & Pedestrian Plan and would like to get the community involved and express their concerns and comments as it pertains to a bike rider and/or a pedestrian.  Please voice your comments\, concerns\, and/or questions to us by mail\, phone or email.  For more information\, contact the Harlingen - San Benito MPO at 502 E. Tyler St.\, Harlingen\, (956) 216-5240 or email at: hsbmpo@myharlingen.us  or www.hsbmpo.com
X-ALT-DESC;FMTTYPE=text/html:The Harlingen-San Benito MPO is currently working on a Bicycle & Pedestrian Plan and would like to get the community involved and express their concerns and comments as it pertains to a bike rider and/or a pedestrian.  Please voice your comments\, concerns\, and/or questions to us by mail\, phone or email.  For more information\, contact the Harlingen - San Benito MPO at 502 E. Tyler St.\, Harlingen\, (956) 216-5240 or email at: hsbmpo@myharlingen.us  or www.hsbmpo.com      
LOCATION:
UID:e.1828.3624
SEQUENCE:3
DTSTAMP:20260420T150443Z
URL:https://business.harlingen.com/events/details/harlingen-san-benito-mpo-bicycle-pedestrian-plan-04-23-2012-3624
END:VEVENT

END:VCALENDAR
