BEGIN:VCALENDAR
VERSION:2.0
PRODID:-//ChamberMaster//Event Calendar 2.0//EN
METHOD:PUBLISH
X-PUBLISHED-TTL:P3D
REFRESH-INTERVAL:P3D
CALSCALE:GREGORIAN
BEGIN:VEVENT
DTSTART:20091215T010000Z
DTEND:20091215T010000Z
X-MICROSOFT-CDO-ALLDAYEVENT:FALSE
SUMMARY:Harlingen South Drama Presents Alice in Wonderland
DESCRIPTION:For ticket information\, please contact the auditorium at 956-216-5990 or visit www.harlingenarts.com.
X-ALT-DESC;FMTTYPE=text/html:For ticket information\, please contact the auditorium at 956-216-5990 or visit www.harlingenarts.com.
LOCATION:
UID:e.1828.2270
SEQUENCE:3
DTSTAMP:20260422T130728Z
URL:https://business.harlingen.com/events/details/harlingen-south-drama-presents-alice-in-wonderland-12-14-2009-2270
END:VEVENT

END:VCALENDAR
