BEGIN:VCALENDAR
VERSION:2.0
PRODID:-//ChamberMaster//Event Calendar 2.0//EN
METHOD:PUBLISH
X-PUBLISHED-TTL:P3D
REFRESH-INTERVAL:P3D
CALSCALE:GREGORIAN
BEGIN:VEVENT
DTSTART:20101002T150000Z
DTEND:20101002T150000Z
X-MICROSOFT-CDO-ALLDAYEVENT:FALSE
SUMMARY:Harlingen VA Outpatient Clinic Press Conference
DESCRIPTION:The South Texas Congressional Delegation & Mr. Jeff Milligan\, Director\, Valley Coastal Bend HCS invite the public to a Press Conference announcing the activation of the newest VA Health Care System in the Country.  The press conference will take place on Saturday\, October 2\, 2010 at 10:00 am at the Harlingen VA Outpatient Clinic located at 2106 Treasure Hills Blvd.  For more information\, please contact Froy Garza at 956-430-9303 ext. 63903.
X-ALT-DESC;FMTTYPE=text/html:The South Texas Congressional Delegation & Mr. Jeff Milligan\, Director\, Valley Coastal Bend HCS invite the public to a Press Conference announcing the activation of the newest VA Health Care System in the Country.  The press conference will take place on Saturday\, October 2\, 2010 at 10:00 am at the Harlingen VA Outpatient Clinic located at 2106 Treasure Hills Blvd.  For more information\, please contact Froy Garza at 956-430-9303 ext. 63903.\n\n
LOCATION:
UID:e.1828.2776
SEQUENCE:3
DTSTAMP:20260421T223245Z
URL:https://business.harlingen.com/events/details/harlingen-va-outpatient-clinic-press-conference-10-02-2010-2776
END:VEVENT

END:VCALENDAR
