BEGIN:VCALENDAR
VERSION:2.0
PRODID:-//ChamberMaster//Event Calendar 2.0//EN
METHOD:PUBLISH
X-PUBLISHED-TTL:P3D
REFRESH-INTERVAL:P3D
CALSCALE:GREGORIAN
BEGIN:VEVENT
DTSTART;VALUE=DATE:20100907
DTEND;VALUE=DATE:20101003
TRANSP:TRANSPARENT
X-MICROSOFT-CDO-ALLDAYEVENT:TRUE
SUMMARY:Harlingen Yoga Center Schedule
DESCRIPTION:Session #9 begins Tuesday\, September 7th and ends Saturday\, October 2nd.  YOGA CENTER CLOSED AUGUST 29TH TO SEPTEMBER 6TH.   NEW CLASS THIS SESSION - Yoga Abs .  Build up your core strength and stamina\, sculpt and tone!  Begins Wednesday\, September 8th at 10:15 AM or 6:00 PM.  •   MEDITATION IS BACK! - Breathe\, Meditate\, Relax added this session on Wednesdays at 7:15 PM.  Join us and Discover how to relax\, prepare for\, or let go of the day by developing the discipline to create inner peace.   •  Due to an overwhelming response to our AUGUST WORKSHOP - THE LANGUAGE & 8 LIMBS OF YOGA - a second workshop Friday\, September 10th\, 6-8 PM is scheduled.  Spaces are reserved for those already on the waiting list.  Don't wait….CALL TODAY!!   (956) 428-YOGA (9642).  Or vist the website at www.harlingenyogacenter.com
X-ALT-DESC;FMTTYPE=text/html:Session #9 begins Tuesday\, September 7th and ends Saturday\, October 2nd.  YOGA CENTER CLOSED AUGUST 29TH TO SEPTEMBER 6TH.   NEW CLASS THIS SESSION - Yoga Abs .  Build up your core strength and stamina\, sculpt and tone!  Begins Wednesday\, September 8th at 10:15 AM or 6:00 PM.  •   MEDITATION IS BACK! - Breathe\, Meditate\, Relax added this session on Wednesdays at 7:15 PM.  Join us and Discover how to relax\, prepare for\, or let go of the day by developing the discipline to create inner peace.   •  Due to an overwhelming response to our AUGUST WORKSHOP - THE LANGUAGE & 8 LIMBS OF YOGA - a second workshop Friday\, September 10th\, 6-8 PM is scheduled.  Spaces are reserved for those already on the waiting list.  Don't wait….CALL TODAY!!   (956) 428-YOGA (9642).  Or vist the website at www.harlingenyogacenter.com\n \n
LOCATION:
UID:e.1828.2741
SEQUENCE:3
DTSTAMP:20260421T203613Z
URL:https://business.harlingen.com/events/details/harlingen-yoga-center-schedule-09-07-2010-2741
END:VEVENT

END:VCALENDAR
