BEGIN:VCALENDAR
VERSION:2.0
PRODID:-//ChamberMaster//Event Calendar 2.0//EN
METHOD:PUBLISH
X-PUBLISHED-TTL:P3D
REFRESH-INTERVAL:P3D
CALSCALE:GREGORIAN
BEGIN:VEVENT
DTSTART:20100117T203000Z
DTEND:20100117T203000Z
X-MICROSOFT-CDO-ALLDAYEVENT:FALSE
SUMMARY:Harry James Orchestra
DESCRIPTION:Big band salute to the music that won World War II.  For ticket information\, please call 956-216-5990 or visit www.harlingenarts.com.
X-ALT-DESC;FMTTYPE=text/html:Big band salute to the music that won World War II.  For ticket information\, please call 956-216-5990 or visit www.harlingenarts.com.
LOCATION:
UID:e.1828.2272
SEQUENCE:3
DTSTAMP:20260422T111716Z
URL:https://business.harlingen.com/events/details/harry-james-orchestra-01-17-2010-2272
END:VEVENT

END:VCALENDAR
