BEGIN:VCALENDAR
VERSION:2.0
PRODID:-//ChamberMaster//Event Calendar 2.0//EN
METHOD:PUBLISH
X-PUBLISHED-TTL:P3D
REFRESH-INTERVAL:P3D
CALSCALE:GREGORIAN
BEGIN:VEVENT
DTSTART:20100726T150000Z
DTEND:20100726T150000Z
X-MICROSOFT-CDO-ALLDAYEVENT:FALSE
SUMMARY:Health Care Reform & You presentation
DESCRIPTION:In the dark about Health Care Reform? \n    \n    \n        Please join Physicians Health Choice for a special presentation\, "Health Care Reform & You\," and get answers to commin questions such as: \n    \n    \n        \n            How will Medicare change? \n        \n        \n            When will the Medicare changes take effect? \n        \n        \n            How can I protect my Medicare benefits? \n        \n    \n    \n        The new laws focus on the quality of health care\, ensuring health care system accountability and other changes to Medicare. \n    \n    \n        Don't miss this great opportunity to find out more! Stop by the special presentation about Health Care Reform. Call to RSVP or learn more about Physcians Health Choice at 1-877-852-1558. Light snacks and beverages will be provided.
X-ALT-DESC;FMTTYPE=text/html:<html>\n<head>\n    <link href="http://harlingentxcoc.weblinkconnect.com/CWT/External/WCControls/WCControls.css" type="text/css" rel="Stylesheet" />\n</head>\n<body class="GeneralBody">\n    <p>\n        <strong><font size="3">In the dark about Health Care Reform?</font></strong> \n    </p>\n    <p>\n        Please join Physicians Health Choice for a special presentation\, <strong>"Health Care Reform &amp\; You\," </strong>and get answers to commin questions such as: \n    </p>\n    <ul>\n        <li>\n            How will Medicare change? \n        </li>\n        <li>\n            When will the Medicare changes take effect? \n        </li>\n        <li>\n            How can I protect my Medicare benefits? \n        </li>\n    </ul>\n    <p>\n        The new laws focus on the quality of health care\, ensuring health care system accountability and other changes to Medicare. \n    </p>\n    <p>\n        Don't miss this great opportunity to find out more! Stop by the special presentation about Health Care Reform. Call to RSVP or learn more about Physcians Health Choice at 1-877-852-1558. Light snacks and beverages will be provided. \n    </p>\n</body>\n</html>\n
LOCATION:
UID:e.1828.2609
SEQUENCE:3
DTSTAMP:20260422T015716Z
URL:https://business.harlingen.com/events/details/health-care-reform-you-presentation-07-26-2010-2609
END:VEVENT

END:VCALENDAR
