BEGIN:VCALENDAR
VERSION:2.0
PRODID:-//ChamberMaster//Event Calendar 2.0//EN
METHOD:PUBLISH
X-PUBLISHED-TTL:P3D
REFRESH-INTERVAL:P3D
CALSCALE:GREGORIAN
BEGIN:VEVENT
DTSTART:20120524T230000Z
DTEND:20120524T230000Z
X-MICROSOFT-CDO-ALLDAYEVENT:FALSE
SUMMARY:Health Education Seminar\, "Preventing Disease\, Protecting Your Health
DESCRIPTION:Health Education Seminar\, "Preventing Disease\, Protecting Your Health Featuring Dr. Fred Aurbach.\nFor more information call Lana V. at 956-367-2802 or Beverly Franks at 956-793-0337.
X-ALT-DESC;FMTTYPE=text/html:Health Education Seminar\, "Preventing Disease\, Protecting Your Health Featuring Dr. Fred Aurbach.\nFor more information call Lana V. at 956-367-2802 or Beverly Franks at 956-793-0337.   \n
LOCATION:
UID:e.1828.3699
SEQUENCE:3
DTSTAMP:20260420T151119Z
URL:https://business.harlingen.com/events/details/health-education-seminar-preventing-disease-protecting-your-health-05-24-2012-3699
END:VEVENT

END:VCALENDAR
