BEGIN:VCALENDAR
VERSION:2.0
PRODID:-//ChamberMaster//Event Calendar 2.0//EN
METHOD:PUBLISH
X-PUBLISHED-TTL:P3D
REFRESH-INTERVAL:P3D
CALSCALE:GREGORIAN
BEGIN:VEVENT
DTSTART:20120525T230000Z
DTEND:20120526T000000Z
X-MICROSOFT-CDO-ALLDAYEVENT:FALSE
SUMMARY:Health Education Seminar\, "Preventing Disease\, Protecting Your Health"
DESCRIPTION:Health Education Seminar\, "Preventing Disease\, Protecting Your Health Featuring Dr. Fred Aurbach.\nGuests FREE/Distributors $10 For more information call Lana at 956-367-2802 or Catherine at 956-490-5193.
X-ALT-DESC;FMTTYPE=text/html:Health Education Seminar\, "Preventing Disease\, Protecting Your Health Featuring Dr. Fred Aurbach.\nGuests FREE/Distributors $10 For more information call Lana at 956-367-2802 or Catherine at 956-490-5193.  \n
LOCATION:
UID:e.1828.3700
SEQUENCE:3
DTSTAMP:20260420T164015Z
URL:https://business.harlingen.com/events/details/health-education-seminar-preventing-disease-protecting-your-health-05-25-2012-3700
END:VEVENT

END:VCALENDAR
