BEGIN:VCALENDAR
VERSION:2.0
PRODID:-//ChamberMaster//Event Calendar 2.0//EN
METHOD:PUBLISH
X-PUBLISHED-TTL:P3D
REFRESH-INTERVAL:P3D
CALSCALE:GREGORIAN
BEGIN:VEVENT
DTSTART:20090923T123000Z
DTEND:20090923T170000Z
X-MICROSOFT-CDO-ALLDAYEVENT:FALSE
SUMMARY:Healthcare Reform Dialogue: What Will Health Reform Mean For You?
DESCRIPTION:Discussions on: public plan/government plan\, individual mandated insurance\, Medicare/Medicaid cuts\, health information technology\, medical records privacy\, individual and employer subsidies\, cost containment\, quality performance measures...and more!  As Congress and the Obama administration consider healthcare and insurance reform options\, Texans are asking what these changes will mean for them. Join healthcare stakeholders from around the state as we review the models and the options.  This forum is a discussion\, not a debate - an opportunity to listen\, learn and share.  Welcome: James E. Eastham\, FACHE President   Keynote: Don A. Gilbert\, MBA\; Facilitator: Camille D. Miller\, President   Panelists: A panel of local healthcare reform stakeholders.  REGISTER NOW!\n$50 Registration Fee.  Light Breakfast Served.  The forum will take place in the Woodward Conference Center at Valley Baptist Medical Center\, 2101 Pease St. in Harlingen.  To register\, visit www.texashealthinstitute.org or contact Amanda Conway at aconway@texashealthinstitute.org / (512) 279-3907.
X-ALT-DESC;FMTTYPE=text/html:Discussions on: public plan/government plan\, individual mandated insurance\, Medicare/Medicaid cuts\, health information technology\, medical records privacy\, individual and employer subsidies\, cost containment\, quality performance measures...and more!  As Congress and the Obama administration consider healthcare and insurance reform options\, Texans are asking what these changes will mean for them. Join healthcare stakeholders from around the state as we review the models and the options.  This forum is a discussion\, not a debate - an opportunity to listen\, learn and share.  Welcome: James E. Eastham\, FACHE President & CEO\, Valley Baptist Health System\; Keynote: Don A. Gilbert\, MBA\; Facilitator: Camille D. Miller\, President & CEO of Texas Health Institute\; Panelists: A panel of local healthcare reform stakeholders.  REGISTER NOW!\n$50 Registration Fee.  Light Breakfast Served.  The forum will take place in the Woodward Conference Center at Valley Baptist Medical Center\, 2101 Pease St. in Harlingen.  To register\, visit www.texashealthinstitute.org or contact Amanda Conway at aconway@texashealthinstitute.org / (512) 279-3907.\n
LOCATION:
UID:e.1828.2083
SEQUENCE:3
DTSTAMP:20260422T112608Z
URL:https://business.harlingen.com/events/details/healthcare-reform-dialogue-what-will-health-reform-mean-for-you-09-23-2009-2083
END:VEVENT

END:VCALENDAR
