BEGIN:VCALENDAR
VERSION:2.0
PRODID:-//ChamberMaster//Event Calendar 2.0//EN
METHOD:PUBLISH
X-PUBLISHED-TTL:P3D
REFRESH-INTERVAL:P3D
CALSCALE:GREGORIAN
BEGIN:VEVENT
DTSTART:20100306T160000Z
DTEND:20100306T220000Z
X-MICROSOFT-CDO-ALLDAYEVENT:FALSE
SUMMARY:Heart O' the Hills and Camp Stewart in Hunt Hosting a FREE "Family Fun Day"
DESCRIPTION:Calling all families! Heart O' the Hills and Camp Stewart in Hunt are hosting a free "family fun day" on March 6 and invite families to come and have a great time with us at either location on that Saturday.We will open the gates at 10 a.m. and will receive until 4 p.m. \nWe will have horses to pet and some camp action available. Snacks will be served from 11 to 1.\nWe will be happy to give tours as well of both Heart O' the Hills Camp for Girls and Camp Stewart for Boys. The two camps are just seven miles apart. Both camps accept children ages 6-16.  RSVP with number attending\, so we can give you directions (we have yet to find a GPS device or Internet map service that knows where we are)!  Heart O' the Hills\, www.HOHcamp.com\, 830-238-4650 and Camp Stewart\, www.CampStewart.com\, 830-238-4670.
X-ALT-DESC;FMTTYPE=text/html:Calling all families! Heart O' the Hills and Camp Stewart in Hunt are hosting a free "family fun day" on March 6 and invite families to come and have a great time with us at either location on that Saturday.We will open the gates at 10 a.m. and will receive until 4 p.m. \nWe will have horses to pet and some camp action available. Snacks will be served from 11 to 1.\nWe will be happy to give tours as well of both Heart O' the Hills Camp for Girls and Camp Stewart for Boys. The two camps are just seven miles apart. Both camps accept children ages 6-16.  RSVP with number attending\, so we can give you directions (we have yet to find a GPS device or Internet map service that knows where we are)!  Heart O' the Hills\, www.HOHcamp.com\, 830-238-4650 and Camp Stewart\, www.CampStewart.com\, 830-238-4670.\n\n
LOCATION:
UID:e.1828.2181
SEQUENCE:3
DTSTAMP:20260422T081418Z
URL:https://business.harlingen.com/events/details/heart-o-the-hills-and-camp-stewart-in-hunt-hosting-a-free-family-fun-day-03-06-2010-2181
END:VEVENT

END:VCALENDAR
