BEGIN:VCALENDAR
VERSION:2.0
PRODID:-//ChamberMaster//Event Calendar 2.0//EN
METHOD:PUBLISH
X-PUBLISHED-TTL:P3D
REFRESH-INTERVAL:P3D
CALSCALE:GREGORIAN
BEGIN:VEVENT
DTSTART:20120524T223000Z
DTEND:20120524T223000Z
X-MICROSOFT-CDO-ALLDAYEVENT:FALSE
SUMMARY:Heartfelt Gifts & Cafe
DESCRIPTION:Come enjoy some Cafe specialty samples\, meet new friends\, shop and just relax!
X-ALT-DESC;FMTTYPE=text/html:Come enjoy some Cafe specialty samples\, meet new friends\, shop and just relax!\n
LOCATION:
UID:e.1828.3650
SEQUENCE:3
DTSTAMP:20260420T150443Z
URL:https://business.harlingen.com/events/details/heartfelt-gifts-cafe-05-24-2012-3650
END:VEVENT

END:VCALENDAR
