BEGIN:VCALENDAR
VERSION:2.0
PRODID:-//ChamberMaster//Event Calendar 2.0//EN
METHOD:PUBLISH
X-PUBLISHED-TTL:P3D
REFRESH-INTERVAL:P3D
CALSCALE:GREGORIAN
BEGIN:VEVENT
DTSTART:20111019T223000Z
DTEND:20111019T223000Z
X-MICROSOFT-CDO-ALLDAYEVENT:FALSE
SUMMARY:Heavenly Angels Christian Daycare Grand Opening
DESCRIPTION:Come celebrate the Grand Opening of Heavenly Angels Christian Daycare. Take a walk through the facility and learn about the Daycare Center. Cookies and punch will be served.
X-ALT-DESC;FMTTYPE=text/html:Come celebrate the Grand Opening of Heavenly Angels Christian Daycare. Take a walk through the facility and learn about the Daycare Center. Cookies and punch will be served.  \n
LOCATION:
UID:e.1828.3180
SEQUENCE:3
DTSTAMP:20260421T021656Z
URL:https://business.harlingen.com/events/details/heavenly-angels-christian-daycare-grand-opening-10-19-2011-3180
END:VEVENT

END:VCALENDAR
