BEGIN:VCALENDAR
VERSION:2.0
PRODID:-//ChamberMaster//Event Calendar 2.0//EN
METHOD:PUBLISH
X-PUBLISHED-TTL:P3D
REFRESH-INTERVAL:P3D
CALSCALE:GREGORIAN
BEGIN:VEVENT
DTSTART:20091120T170000Z
DTEND:20091120T210000Z
X-MICROSOFT-CDO-ALLDAYEVENT:FALSE
SUMMARY:HEB Feast of Sharing
DESCRIPTION:HEB Feast of Sharing November 20th.  Harlingen Community Center\; 201 E. Madison.  For more information\, please contact Kathy Preddy or Jessica Belschner at the United Way Office at 956-423-5954.
X-ALT-DESC;FMTTYPE=text/html:HEB Feast of Sharing November 20th.  Harlingen Community Center\; 201 E. Madison.  For more information\, please contact Kathy Preddy or Jessica Belschner at the United Way Office at 956-423-5954.\n
LOCATION:
UID:e.1828.2191
SEQUENCE:3
DTSTAMP:20260422T125811Z
URL:https://business.harlingen.com/events/details/heb-feast-of-sharing-11-20-2009-2191
END:VEVENT

END:VCALENDAR
