BEGIN:VCALENDAR
VERSION:2.0
PRODID:-//ChamberMaster//Event Calendar 2.0//EN
METHOD:PUBLISH
X-PUBLISHED-TTL:P3D
REFRESH-INTERVAL:P3D
CALSCALE:GREGORIAN
BEGIN:VEVENT
DTSTART;VALUE=DATE:20100713
DTEND;VALUE=DATE:20100828
TRANSP:TRANSPARENT
X-MICROSOFT-CDO-ALLDAYEVENT:TRUE
SUMMARY:Help United Way Stuff the Bus With School Supplies Donations
DESCRIPTION:The United Way of Northern Cameron County is committed to helping children enter school ready to learn.  By partnering with United Way\, we will accept your donations of school supplies to be distributed to children in need.  Help us provide the tools necessary for children to be successful in school.  All types of school supplies will be accepted\, here are a few suggestions: Approved Back Packs\, Highlighters\, Ball Point Pens\, Markers\, Crayons\,	Paper\, Construction Paper\, Pencils\, Erasers\, Pencil Sharpeners\, Glue\, Pocket Folders\, Graph Paper\,		Rulers\, Hand Sanitizer and 3-ring Binders.  Our Stuff the Bus Collection box will be located in the Harlingen Area Chamber of Commerce lobby\, through August 27th.
X-ALT-DESC;FMTTYPE=text/html:The United Way of Northern Cameron County is committed to helping children enter school ready to learn.  By partnering with United Way\, we will accept your donations of school supplies to be distributed to children in need.  Help us provide the tools necessary for children to be successful in school.  All types of school supplies will be accepted\, here are a few suggestions: Approved Back Packs\, Highlighters\, Ball Point Pens\, Markers\, Crayons\,	Paper\, Construction Paper\, Pencils\, Erasers\, Pencil Sharpeners\, Glue\, Pocket Folders\, Graph Paper\,		Rulers\, Hand Sanitizer and 3-ring Binders.  Our Stuff the Bus Collection box will be located in the Harlingen Area Chamber of Commerce lobby\, through August 27th.  \n
LOCATION:
UID:e.1828.2600
SEQUENCE:3
DTSTAMP:20260422T015715Z
URL:https://business.harlingen.com/events/details/help-united-way-stuff-the-bus-with-school-supplies-donations-07-13-2010-2600
END:VEVENT

END:VCALENDAR
