BEGIN:VCALENDAR
VERSION:2.0
PRODID:-//ChamberMaster//Event Calendar 2.0//EN
METHOD:PUBLISH
X-PUBLISHED-TTL:P3D
REFRESH-INTERVAL:P3D
CALSCALE:GREGORIAN
BEGIN:VEVENT
DTSTART:20100910T120000Z
DTEND:20100910T150000Z
X-MICROSOFT-CDO-ALLDAYEVENT:FALSE
SUMMARY:HEROES BREAKFAST AT CAMELOT
DESCRIPTION:Please join us for a Heroes Breakfast honoring of all our Harlingen Police Force\, Harlingen Fire Department\, South Texas Emergency System\, Texas Highway Patrol\, Cameron County Sheriff Department and Texas Border Patrol.  Camelot residents will serve breakfast tacos\, bacon\, toast\, jelly\, orange juice\, coffee\, tea\, soft drinks\,\ncereal\, oats and cream of wheat.  For more information\, please call 956-428-4422.
X-ALT-DESC;FMTTYPE=text/html:Please join us for a Heroes Breakfast honoring of all our Harlingen Police Force\, Harlingen Fire Department\, South Texas Emergency System\, Texas Highway Patrol\, Cameron County Sheriff Department and Texas Border Patrol.  Camelot residents will serve breakfast tacos\, bacon\, toast\, jelly\, orange juice\, coffee\, tea\, soft drinks\,\ncereal\, oats and cream of wheat.  For more information\, please call 956-428-4422.\n \n
LOCATION:
UID:e.1828.2735
SEQUENCE:3
DTSTAMP:20260421T222912Z
URL:https://business.harlingen.com/events/details/heroes-breakfast-at-camelot-09-10-2010-2735
END:VEVENT

END:VCALENDAR
