BEGIN:VCALENDAR
VERSION:2.0
PRODID:-//ChamberMaster//Event Calendar 2.0//EN
METHOD:PUBLISH
X-PUBLISHED-TTL:P3D
REFRESH-INTERVAL:P3D
CALSCALE:GREGORIAN
BEGIN:VEVENT
DTSTART:20100127T150000Z
DTEND:20100127T220000Z
X-MICROSOFT-CDO-ALLDAYEVENT:FALSE
SUMMARY:High Performance Homes & HVAC
DESCRIPTION:This six-hour course on High Performance Homes & HVAC covers\nthe fundamentals of building science\, code requirements\, high\nperformance home details and the HVAC best practices that are\nrequired to make the home function as an integrated system. The\nconcepts behind Manual J\, Manual D\, and Manual S are covered\nfrom a practical standpoint of keeping the customer comfortable\nwhile meeting the requirements of the latest energy codes and high\nperformance programs such as ENERGY STAR®.\nThis course is offered in collaboration with The University of Texas\nat Brownsville and Texas Southmost College.\nRESNET Continuing Education Credits: 6\nwww.ibsadvisorsllc.com/training/scheduled_trainings.php\nJanuary 27\, 2010\n$125.00
X-ALT-DESC;FMTTYPE=text/html:This six-hour course on High Performance Homes & HVAC covers\nthe fundamentals of building science\, code requirements\, high\nperformance home details and the HVAC best practices that are\nrequired to make the home function as an integrated system. The\nconcepts behind Manual J\, Manual D\, and Manual S are covered\nfrom a practical standpoint of keeping the customer comfortable\nwhile meeting the requirements of the latest energy codes and high\nperformance programs such as ENERGY STAR®.\nThis course is offered in collaboration with The University of Texas\nat Brownsville and Texas Southmost College.\nRESNET Continuing Education Credits: 6\nwww.ibsadvisorsllc.com/training/scheduled_trainings.php\nJanuary 27\, 2010\n$125.00
LOCATION:1 Wallace Reed Road South Padre Island\, TX 78597-6401
UID:e.1828.2319
SEQUENCE:3
DTSTAMP:20260422T111604Z
URL:https://business.harlingen.com/events/details/high-performance-homes-hvac-01-27-2010-2319
END:VEVENT

END:VCALENDAR
