BEGIN:VCALENDAR
VERSION:2.0
PRODID:-//ChamberMaster//Event Calendar 2.0//EN
METHOD:PUBLISH
X-PUBLISHED-TTL:P3D
REFRESH-INTERVAL:P3D
CALSCALE:GREGORIAN
BEGIN:VEVENT
DTSTART:20110227T180000Z
DTEND:20110227T230000Z
X-MICROSOFT-CDO-ALLDAYEVENT:FALSE
SUMMARY:Hire Downtown Wedding & Quinceanera Showcase
DESCRIPTION:Discover all that downtown Harlingen businesses have to offer for special events including one-of-a-kind dresses\, gorgeous flowers\, professional photography\, custom invitations\, and more!  Enjoy shopping\, food & beverages\, and special discounts as businesses on Downtown Jackson help you plan your special day.  Plus\, pick up a passport and register for a special grand prize drawing!  Free and open to the public -- bring your friends!  For more info\, call (956) 467-4113.
X-ALT-DESC;FMTTYPE=text/html:Discover all that downtown Harlingen businesses have to offer for special events including one-of-a-kind dresses\, gorgeous flowers\, professional photography\, custom invitations\, and more!  Enjoy shopping\, food & beverages\, and special discounts as businesses on Downtown Jackson help you plan your special day.  Plus\, pick up a passport and register for a special grand prize drawing!  Free and open to the public -- bring your friends!  For more info\, call (956) 467-4113.\n\n\n
LOCATION:
UID:e.1828.2938
SEQUENCE:3
DTSTAMP:20260421T154220Z
URL:https://business.harlingen.com/events/details/hire-downtown-wedding-quinceanera-showcase-02-27-2011-2938
END:VEVENT

END:VCALENDAR
