BEGIN:VCALENDAR
VERSION:2.0
PRODID:-//ChamberMaster//Event Calendar 2.0//EN
METHOD:PUBLISH
X-PUBLISHED-TTL:P3D
REFRESH-INTERVAL:P3D
CALSCALE:GREGORIAN
BEGIN:VEVENT
DTSTART;VALUE=DATE:20090813
DTEND;VALUE=DATE:20090915
TRANSP:TRANSPARENT
X-MICROSOFT-CDO-ALLDAYEVENT:TRUE
SUMMARY:Hispanic Heritage Month Exhibit
DESCRIPTION:In celebration of Hispanic Heritage Month\, the Harlingen Arts & Heritage Museum will feature Poster Art from the Golden Age of Cinema from the archives of Rogelio Agrasanchez\, Jr.  For museum hours\, please call 956-216-4901.
X-ALT-DESC;FMTTYPE=text/html:In celebration of Hispanic Heritage Month\, the Harlingen Arts & Heritage Museum will feature Poster Art from the Golden Age of Cinema from the archives of Rogelio Agrasanchez\, Jr.  For museum hours\, please call 956-216-4901.
LOCATION:Harlingen Arts & Heritage Museum
UID:e.1828.1585
SEQUENCE:3
DTSTAMP:20260422T080806Z
URL:https://business.harlingen.com/events/details/hispanic-heritage-month-exhibit-08-13-2009-1585
END:VEVENT

END:VCALENDAR
