BEGIN:VCALENDAR
VERSION:2.0
PRODID:-//ChamberMaster//Event Calendar 2.0//EN
METHOD:PUBLISH
X-PUBLISHED-TTL:P3D
REFRESH-INTERVAL:P3D
CALSCALE:GREGORIAN
BEGIN:VEVENT
DTSTART:20091202T220000Z
DTEND:20091203T020000Z
X-MICROSOFT-CDO-ALLDAYEVENT:FALSE
SUMMARY:Ho-Ho Holiday Happenin'
DESCRIPTION:Ho-Ho Holiday Happenin' Wednesday\, December 2nd from 4:00 - 8:00 pm along Jackson from Second to Third Streets\, in Downtown Harlingen.  Catch the spirit of the season in Downtown Harlingen with great shopping in several Jackson Street shops open late this Wednesday evening!  Enjoy tasty hors d'oeuvres\, drinks\, live music and special discounts at participating stores.  Free and open to the public - bring a friend!  For more information\, please call 425-7979.
X-ALT-DESC;FMTTYPE=text/html:Ho-Ho Holiday Happenin' Wednesday\, December 2nd from 4:00 - 8:00 pm along Jackson from Second to Third Streets\, in Downtown Harlingen.  Catch the spirit of the season in Downtown Harlingen with great shopping in several Jackson Street shops open late this Wednesday evening!  Enjoy tasty hors d'oeuvres\, drinks\, live music and special discounts at participating stores.  Free and open to the public - bring a friend!  For more information\, please call 425-7979.\n
LOCATION:
UID:e.1828.2246
SEQUENCE:3
DTSTAMP:20260422T144115Z
URL:https://business.harlingen.com/events/details/ho-ho-holiday-happenin-12-02-2009-2246
END:VEVENT

END:VCALENDAR
