BEGIN:VCALENDAR
VERSION:2.0
PRODID:-//ChamberMaster//Event Calendar 2.0//EN
METHOD:PUBLISH
X-PUBLISHED-TTL:P3D
REFRESH-INTERVAL:P3D
CALSCALE:GREGORIAN
BEGIN:VEVENT
DTSTART:20101002T150000Z
DTEND:20101002T220000Z
X-MICROSOFT-CDO-ALLDAYEVENT:FALSE
SUMMARY:Holiday Open House Party
DESCRIPTION:Join us as we kick off the holiday season with a "Holiday Open House Party" and Cinda b Trunk Show!  Start your holiday shopping early with us as we introduce our new products.  View our large selection of holiday cards\, visit our vendors and much more.  Enjoy a day of fun\, great food\, drinks and door prizes!
X-ALT-DESC;FMTTYPE=text/html:Join us as we kick off the holiday season with a "Holiday Open House Party" and Cinda b Trunk Show!  Start your holiday shopping early with us as we introduce our new products.  View our large selection of holiday cards\, visit our vendors and much more.  Enjoy a day of fun\, great food\, drinks and door prizes!
LOCATION:
UID:e.1828.2784
SEQUENCE:3
DTSTAMP:20260421T203503Z
URL:https://business.harlingen.com/events/details/holiday-open-house-party-10-02-2010-2784
END:VEVENT

END:VCALENDAR
