BEGIN:VCALENDAR
VERSION:2.0
PRODID:-//ChamberMaster//Event Calendar 2.0//EN
METHOD:PUBLISH
X-PUBLISHED-TTL:P3D
REFRESH-INTERVAL:P3D
CALSCALE:GREGORIAN
BEGIN:VEVENT
DTSTART:20101201T220000Z
DTEND:20101202T020000Z
X-MICROSOFT-CDO-ALLDAYEVENT:FALSE
SUMMARY:Holiday Shopping in Downtown Harlingen Jackson Street
DESCRIPTION:SEASON'S GREETINGS\n\nIt's all in "DOWNTOWN HARLINGEN AT OUR "HOLIDAY SHOPPING EVENT".\n\nFELIZ NAVIDAD\, MERRY CHRISTMAS\, JOYEUX NOEL \n\nThe Christmas season begins with holiday shopping in Downtown Harlingen! Visit many stores and enjoy bargains\, unique treasures\, music\, food\, & drinks.
X-ALT-DESC;FMTTYPE=text/html:SEASON'S GREETINGS\n\nIt's all in "DOWNTOWN HARLINGEN AT OUR "HOLIDAY SHOPPING EVENT".\n\nFELIZ NAVIDAD\, MERRY CHRISTMAS\, JOYEUX NOEL \n\nThe Christmas season begins with holiday shopping in Downtown Harlingen! Visit many stores and enjoy bargains\, unique treasures\, music\, food\, & drinks.\n
LOCATION:Jackson Street
UID:e.1828.2862
SEQUENCE:3
DTSTAMP:20260421T172041Z
URL:https://business.harlingen.com/events/details/holiday-shopping-in-downtown-harlingen-jackson-street-12-01-2010-2862
END:VEVENT

END:VCALENDAR
