BEGIN:VCALENDAR
VERSION:2.0
PRODID:-//ChamberMaster//Event Calendar 2.0//EN
METHOD:PUBLISH
X-PUBLISHED-TTL:P3D
REFRESH-INTERVAL:P3D
CALSCALE:GREGORIAN
BEGIN:VEVENT
DTSTART:20091028T163000Z
DTEND:20091028T183000Z
X-MICROSOFT-CDO-ALLDAYEVENT:FALSE
SUMMARY:Honoring Immigrant Survivors of Domestic Abuse Luncheon and Fundraiser
DESCRIPTION:October is National Domestic Violence Awareness Month and Casa de Proyecto Libertad is hosting a luncheon in honor of immigrant women survivors of domestic violence\, to raise awareness about domestic abuse and to raise funds for our work. Three clients of Proyecto Libertad will share their experiences as survivors of domestic violence.  The event will also feature speakers from the three Domestic Violence programs in the Rio Grande Valley\, Friendship of Women in Brownsville\, Texas\, Family Crisis Center in Harlingen\, Texas and Mujeres Unidas in McAllen\, Texas.  There will be a musical performance by Rumbo Al Anacua (Joe and Rosa Perez)\, and a poetry reading by Brenda Riojas Nettles from her recent book of poems\, ''La Primer Voz Que Oi''.   RSVP by Ocotber 22nd to Melissa at 956 425 9552 ext. 206. The luncheon is catered by the City Coffee Shop of Harlingen\, Texas\n	Casa de Proyecto Libertad is a 501(c)(3) non-profit organization that promotes and defends human rights in the Rio Grande Valley through immigration legal services\, advocacy and community organizing.  Many of our clients are survivors of domestic violence.
X-ALT-DESC;FMTTYPE=text/html:October is National Domestic Violence Awareness Month and Casa de Proyecto Libertad is hosting a luncheon in honor of immigrant women survivors of domestic violence\, to raise awareness about domestic abuse and to raise funds for our work. Three clients of Proyecto Libertad will share their experiences as survivors of domestic violence.  The event will also feature speakers from the three Domestic Violence programs in the Rio Grande Valley\, Friendship of Women in Brownsville\, Texas\, Family Crisis Center in Harlingen\, Texas and Mujeres Unidas in McAllen\, Texas.  There will be a musical performance by Rumbo Al Anacua (Joe and Rosa Perez)\, and a poetry reading by Brenda Riojas Nettles from her recent book of poems\, ''La Primer Voz Que Oi''.   RSVP by Ocotber 22nd to Melissa at 956 425 9552 ext. 206. The luncheon is catered by the City Coffee Shop of Harlingen\, Texas\n	Casa de Proyecto Libertad is a 501(c)(3) non-profit organization that promotes and defends human rights in the Rio Grande Valley through immigration legal services\, advocacy and community organizing.  Many of our clients are survivors of domestic violence. \n
LOCATION:Rialto Event Center\, 103 W. Jackson Street\, Harlingen\, Texas 78550
UID:e.1828.2149
SEQUENCE:3
DTSTAMP:20260422T112356Z
URL:https://business.harlingen.com/events/details/honoring-immigrant-survivors-of-domestic-abuse-luncheon-and-fundraiser-10-28-2009-2149
END:VEVENT

END:VCALENDAR
