BEGIN:VCALENDAR
VERSION:2.0
PRODID:-//ChamberMaster//Event Calendar 2.0//EN
METHOD:PUBLISH
X-PUBLISHED-TTL:P3D
REFRESH-INTERVAL:P3D
CALSCALE:GREGORIAN
BEGIN:VEVENT
DTSTART;VALUE=DATE:20091003
DTEND;VALUE=DATE:20091008
TRANSP:TRANSPARENT
X-MICROSOFT-CDO-ALLDAYEVENT:TRUE
SUMMARY:Houston Rockets RGV Rocket Launch
DESCRIPTION:Tickets to the 2009 RGV Rocket Launch for the Houston Rockets featuring 3 days of events can be purchased in advance or at the door for $5 per day or $8 for a two-day pass. Admission does not include admittance to Rockets Open Practices or Rockets Autograph Sessions. Admittance to those events\, plus the opportunity to purchase tickets to the Rockets-Celtics game on October 7th at 6:30 pm\, is available only with the purchase of Vipers season tickets\, which start at $150. Monthly payment plans are available\, starting with a down payment of $37.50. Call the Vipers at (956) 972-1144 or purchase tickets in person by going to the new Vipers Pro-Shop at 4500 N. 10th St. in Uptown Plaza in McAllen.
X-ALT-DESC;FMTTYPE=text/html:Tickets to the 2009 RGV Rocket Launch for the Houston Rockets featuring 3 days of events can be purchased in advance or at the door for $5 per day or $8 for a two-day pass. Admission does not include admittance to Rockets Open Practices or Rockets Autograph Sessions. Admittance to those events\, plus the opportunity to purchase tickets to the Rockets-Celtics game on October 7th at 6:30 pm\, is available only with the purchase of Vipers season tickets\, which start at $150. Monthly payment plans are available\, starting with a down payment of $37.50. Call the Vipers at (956) 972-1144 or purchase tickets in person by going to the new Vipers Pro-Shop at 4500 N. 10th St. in Uptown Plaza in McAllen.
LOCATION:
UID:e.1828.2084
SEQUENCE:3
DTSTAMP:20260422T111716Z
URL:https://business.harlingen.com/events/details/houston-rockets-rgv-rocket-launch-10-03-2009-2084
END:VEVENT

END:VCALENDAR
