BEGIN:VCALENDAR
VERSION:2.0
PRODID:-//ChamberMaster//Event Calendar 2.0//EN
METHOD:PUBLISH
X-PUBLISHED-TTL:P3D
REFRESH-INTERVAL:P3D
CALSCALE:GREGORIAN
BEGIN:VEVENT
DTSTART:20111115T200000Z
DTEND:20111115T220000Z
X-MICROSOFT-CDO-ALLDAYEVENT:FALSE
SUMMARY:How to Do Business with HEB & Coca Cola Company
DESCRIPTION:Do you want to grow your business by selling to Corporate America? Have you found that you get the run around when you want to sell your product/services because you have no idea who the right person is when making your call? If yes\, then join us as we present Corporate Representatives from HEB & The Coca Cola Company.\nSMSDC has invited James Harris with HEB and Tony Martinez with The Coca Cola Company to come to Harlingen and present on how you can do business with them. They will discuss the steps that need to be taken to do business with HEB and The Coca Cola Company.\n\nRegister online to attend this event go to www.smsdc.org & click on events (fill out form) $15.00 pp (limited seating\, register early)  If you have any questions call Maggie at 956-425-7048 or e-mail her at maggie@smsdc.org.
X-ALT-DESC;FMTTYPE=text/html:Do you want to grow your business by selling to Corporate America? Have you found that you get the run around when you want to sell your product/services because you have no idea who the right person is when making your call? If yes\, then join us as we present Corporate Representatives from HEB & The Coca Cola Company.\nSMSDC has invited James Harris with HEB and Tony Martinez with The Coca Cola Company to come to Harlingen and present on how you can do business with them. They will discuss the steps that need to be taken to do business with HEB and The Coca Cola Company.\n\nRegister online to attend this event go to www.smsdc.org & click on events (fill out form) $15.00 pp (limited seating\, register early)  If you have any questions call Maggie at 956-425-7048 or e-mail her at maggie@smsdc.org.\n
LOCATION:
UID:e.1828.3257
SEQUENCE:3
DTSTAMP:20260421T005020Z
URL:https://business.harlingen.com/events/details/how-to-do-business-with-heb-coca-cola-company-11-15-2011-3257
END:VEVENT

END:VCALENDAR
