BEGIN:VCALENDAR
VERSION:2.0
PRODID:-//ChamberMaster//Event Calendar 2.0//EN
METHOD:PUBLISH
X-PUBLISHED-TTL:P3D
REFRESH-INTERVAL:P3D
CALSCALE:GREGORIAN
BEGIN:VEVENT
DTSTART:20091018T003000Z
DTEND:20091018T003000Z
X-MICROSOFT-CDO-ALLDAYEVENT:FALSE
SUMMARY:HPAT Re-Opening Fundraiser Gala
DESCRIPTION:Please join us for a Re-Opening Fundraiser Gala featuring tenor Xavier Jaramillo with Allie Haden on piano.  Program selctions include music by Verdi\, Faure\, Strauss\, Sondheim\, Webber & more.  There will be a reception following the concert.  Tickets $25 per person.  To purchase tickets\, or for more information\, please call 956-412-3675.
X-ALT-DESC;FMTTYPE=text/html:Please join us for a Re-Opening Fundraiser Gala featuring tenor Xavier Jaramillo with Allie Haden on piano.  Program selctions include music by Verdi\, Faure\, Strauss\, Sondheim\, Webber & more.  There will be a reception following the concert.  Tickets $25 per person.  To purchase tickets\, or for more information\, please call 956-412-3675.
LOCATION:1209 Fair Park Blvd. Harlingen\,Tx.78550
UID:e.1828.2137
SEQUENCE:3
DTSTAMP:20260422T111919Z
URL:https://business.harlingen.com/events/details/hpat-re-opening-fundraiser-gala-10-17-2009-2137
END:VEVENT

END:VCALENDAR
