BEGIN:VCALENDAR
VERSION:2.0
PRODID:-//ChamberMaster//Event Calendar 2.0//EN
METHOD:PUBLISH
X-PUBLISHED-TTL:P3D
REFRESH-INTERVAL:P3D
CALSCALE:GREGORIAN
BEGIN:VEVENT
DTSTART:20100812T000500Z
DTEND:20100812T000500Z
X-MICROSOFT-CDO-ALLDAYEVENT:FALSE
SUMMARY:Humane Society of Harlingen and Rio Grande Valley Whitewings ''Bark at the Park''
DESCRIPTION:Come join the Humane Society of Harlingen and the Rio Grande Valley Whitewings for: ''Bark at the Park''.  Bring your dog to the game on Wednesday\, Aug 11at 7:05 pm.  Tickets $6 – Get them now!  (no ticket needed for your dog)  There will be water stations for the dogs.  Proceeds to benefit the Humane Society of Harlingen.  Be sure to arrive early to see our adoptable dogs on the ''field of dreams''!  For more information\, please call the Humane Society at 425-7297.
X-ALT-DESC;FMTTYPE=text/html:Come join the Humane Society of Harlingen and the Rio Grande Valley Whitewings for: ''Bark at the Park''.  Bring your dog to the game on Wednesday\, Aug 11at 7:05 pm.  Tickets $6 – Get them now!  (no ticket needed for your dog)  There will be water stations for the dogs.  Proceeds to benefit the Humane Society of Harlingen.  Be sure to arrive early to see our adoptable dogs on the ''field of dreams''!  For more information\, please call the Humane Society at 425-7297.\n
LOCATION:
UID:e.1828.2611
SEQUENCE:3
DTSTAMP:20260422T020055Z
URL:https://business.harlingen.com/events/details/humane-society-of-harlingen-and-rio-grande-valley-whitewings-bark-at-the-park-08-11-2010-2611
END:VEVENT

END:VCALENDAR
